BEGIN:VCALENDAR
VERSION:2.0
PRODID:-//ChamberMaster//Event Calendar 2.0//EN
METHOD:PUBLISH
X-PUBLISHED-TTL:P3D
REFRESH-INTERVAL:P3D
CALSCALE:GREGORIAN
BEGIN:VEVENT
DTSTART:20220614T163000Z
DTEND:20220614T180000Z
X-MICROSOFT-CDO-ALLDAYEVENT:FALSE
SUMMARY:Building a Better Business after COVID-Lunch and Learn
DESCRIPTION:Learn how to become a better leader\, deal with bad behavior\, strengthen your culture after COVID\, build a team built around the company's values\, and check your blind spots on the issues that make or break companies and careers.\n\n\n\nWe are excited to have Pete Havel\, author of The Arsonist in the Office\, as our speaker.  The first 24 paid registrations will receive a copy of Pete's book\, a $14.99 value.\n\n\n\nLunch is also included. The deadline for registration is June 13 at 3pm. No walk-ins will be available. \n\n\n\nThis program is made possible via a grant and partnership from the SHSU Small Business Development Center.
X-ALT-DESC;FMTTYPE=text/html:Learn how to become a better leader\, deal with bad behavior\, strengthen your culture after COVID\, build a team built around the company&rsquo\;s values\, and check your blind spots on the issues that make or break companies and careers.<br />\n<br />\nWe are excited to have Pete Havel\, author of The Arsonist in the Office\, as our speaker.&nbsp\; The first 24 paid registrations will receive a copy of Pete&#39\;s book\, a $14.99 value.<br />\n<br />\nLunch is also included. The deadline for registration is June 13 at 3pm. No walk-ins will be available.&nbsp\;<br />\n<br />\nThis program is made possible via a grant and partnership from the SHSU Small Business Development Center.
LOCATION:Chamber of Commerce Conference Room 1327 11th Street Huntsville\, TX 77340
UID:e.1145.16939
SEQUENCE:3
DTSTAMP:20260425T190608Z
URL:https://business.huntsvillewalkerchamber.com/events/details/building-a-better-business-after-covid-lunch-and-learn-16939
END:VEVENT

END:VCALENDAR
