BEGIN:VCALENDAR
VERSION:2.0
PRODID:-//ChamberMaster//Event Calendar 2.0//EN
METHOD:PUBLISH
X-PUBLISHED-TTL:P3D
REFRESH-INTERVAL:P3D
CALSCALE:GREGORIAN
BEGIN:VEVENT
DTSTART:20260508T000000Z
DTEND:20260508T010000Z
X-MICROSOFT-CDO-ALLDAYEVENT:FALSE
SUMMARY:BELLE CHANSON SPRING CONCERT
DESCRIPTION:Belle Chanson choir presents 'Wishing on a Star'\, a collection of Disney music.
X-ALT-DESC;FMTTYPE=text/html:Belle Chanson choir presents &#39\;Wishing on a Star&#39\;\, a collection of Disney music.
LOCATION:Elkins Lake Baptist Church 206 TX-19\, Huntsville\, TX
UID:e.1145.20657
SEQUENCE:3
DTSTAMP:20260420T130115Z
URL:https://business.huntsvillewalkerchamber.com/events/details/belle-chanson-spring-concert-05-07-2026-20657
END:VEVENT

END:VCALENDAR
