BEGIN:VCALENDAR
VERSION:2.0
PRODID:-//ChamberMaster//Event Calendar 2.0//EN
METHOD:PUBLISH
X-PUBLISHED-TTL:P3D
REFRESH-INTERVAL:P3D
CALSCALE:GREGORIAN
BEGIN:VEVENT
DTSTART;VALUE=DATE:20100527
DTEND;VALUE=DATE:20100528
TRANSP:TRANSPARENT
X-MICROSOFT-CDO-ALLDAYEVENT:TRUE
SUMMARY:BAH Sponsor - May 2010 (Copy)
DESCRIPTION:
X-ALT-DESC;FMTTYPE=text/html:
LOCATION:
UID:e.1145.435
SEQUENCE:3
DTSTAMP:20260420T091412Z
URL:https://business.huntsvillewalkerchamber.com/events/details/bah-sponsor-may-2010-copy-05-27-2010-435
END:VEVENT

END:VCALENDAR
