BEGIN:VCALENDAR
VERSION:2.0
PRODID:-//ChamberMaster//Event Calendar 2.0//EN
METHOD:PUBLISH
X-PUBLISHED-TTL:P3D
REFRESH-INTERVAL:P3D
CALSCALE:GREGORIAN
BEGIN:VEVENT
DTSTART:20240817T013000Z
DTEND:20240817T033000Z
X-MICROSOFT-CDO-ALLDAYEVENT:FALSE
SUMMARY:Back to School Flick & Float
DESCRIPTION:The City of Huntsville Parks and Leisure Department will be hosting the Back to School Flick and Float movie THE MEG at the Huntsville Aquatic Center on Friday\, August 16\, 2024\, at 8:30 PM!! Gates will open at 8:15 PM! Bring your floats (small\, single-person floats)\, camping chairs\, and towels!! Admission is FREE!! Concession will be available for purchase. No outside coolers are allowed
X-ALT-DESC;FMTTYPE=text/html:The City of Huntsville Parks and Leisure Department will be hosting the Back to School Flick and Float movie THE MEG at the Huntsville Aquatic Center on Friday\, August 16\, 2024\, at 8:30 PM!! Gates will open at 8:15 PM! Bring your floats (small\, single-person floats)\, camping chairs\, and towels!! Admission is FREE!! Concession will be available for purchase. No outside coolers are allowed
LOCATION:Frank D. "Poncho" Roberts Aquatic Center: 912 Avenue N Huntsville\, TX 77340
UID:e.1145.18174
SEQUENCE:3
DTSTAMP:20260422T033815Z
URL:https://business.huntsvillewalkerchamber.com/events/details/back-to-school-flick-float-08-16-2024-18174
END:VEVENT

END:VCALENDAR
