BEGIN:VCALENDAR
VERSION:2.0
PRODID:-//ChamberMaster//Event Calendar 2.0//EN
METHOD:PUBLISH
X-PUBLISHED-TTL:P3D
REFRESH-INTERVAL:P3D
CALSCALE:GREGORIAN
BEGIN:VEVENT
DTSTART:20240922T000000Z
DTEND:20240922T020000Z
X-MICROSOFT-CDO-ALLDAYEVENT:FALSE
SUMMARY:Asleep at the Wheel
DESCRIPTION:Asleep at the Wheel will take the stage for a performance you will not want to miss. This group has won 9 Grammy Awards and released over 20 albums.
X-ALT-DESC;FMTTYPE=text/html:Asleep at the Wheel will take the stage for a performance you will not want to miss. This group has won 9 Grammy Awards and released over 20 albums.
LOCATION:1023 12th Street Huntsville\, Texas 77340
UID:e.1145.18164
SEQUENCE:3
DTSTAMP:20260422T015734Z
URL:https://business.huntsvillewalkerchamber.com/events/details/asleep-at-the-wheel-18164
END:VEVENT

END:VCALENDAR
