BEGIN:VCALENDAR
VERSION:2.0
PRODID:-//ChamberMaster//Event Calendar 2.0//EN
METHOD:PUBLISH
X-PUBLISHED-TTL:P3D
REFRESH-INTERVAL:P3D
CALSCALE:GREGORIAN
BEGIN:VEVENT
DTSTART:20240502T000000Z
DTEND:20240502T013000Z
X-MICROSOFT-CDO-ALLDAYEVENT:FALSE
SUMMARY:Aimee Bobruk Malybanchia Concert
DESCRIPTION:Huntsville native and graduate from HHS\, Aimee Bobruk\, returns to her hometown to give a music concert celebrating the release of her new album\, Malybanchia. Enjoy an intimate evening of music. Learn more: www.aimeebobruk.com
X-ALT-DESC;FMTTYPE=text/html:Huntsville native and graduate from HHS\, Aimee Bobruk\, returns to her hometown to give a music concert celebrating the release of her new album\, Malybanchia. Enjoy an intimate evening of music. Learn more: www.aimeebobruk.com
LOCATION:Barefoot Ballroom 1219 14th St\, Huntsville\, TX 77340
UID:e.1145.17874
SEQUENCE:3
DTSTAMP:20260422T083918Z
URL:https://business.huntsvillewalkerchamber.com/events/details/aimee-bobruk-malybanchia-concert-17874
END:VEVENT

END:VCALENDAR
