BEGIN:VCALENDAR
VERSION:2.0
PRODID:-//ChamberMaster//Event Calendar 2.0//EN
METHOD:PUBLISH
X-PUBLISHED-TTL:P3D
REFRESH-INTERVAL:P3D
CALSCALE:GREGORIAN
BEGIN:VEVENT
DTSTART:20240827T223000Z
DTEND:20240827T233000Z
X-MICROSOFT-CDO-ALLDAYEVENT:FALSE
SUMMARY:Adult Trivia Night-Summer Theme
DESCRIPTION:Do you know a bunch of random facts about random topics? Well trivia night was made for you! This Jeopardy-style game night is for adults ages 18+ to enjoy putting their brains to the test with the trivia theme of SUMMER! Fun will be had by all on Tuesday\, August 27 at 5:30 p.m. Prizes are included for the smarty-pants winners! For more information\, contact Outreach and Program Coordinator Amanda Sturdivant at 936-291-5481.
X-ALT-DESC;FMTTYPE=text/html:Do you know a bunch of random facts about random topics? Well trivia night was made for you! This Jeopardy-style game night is for adults ages 18+ to enjoy putting their brains to the test with the trivia theme of SUMMER! Fun will be had by all on Tuesday\, August 27 at 5:30 p.m. Prizes are included for the smarty-pants winners! For more information\, contact Outreach and Program Coordinator Amanda Sturdivant at 936-291-5481.
LOCATION:Huntsville Public Library 1219 13th Street Huntsville. TX 77340
UID:e.1145.18185
SEQUENCE:3
DTSTAMP:20260422T034019Z
URL:https://business.huntsvillewalkerchamber.com/events/details/adult-trivia-night-summer-theme-18185
END:VEVENT

END:VCALENDAR
