BEGIN:VCALENDAR
VERSION:2.0
PRODID:-//ChamberMaster//Event Calendar 2.0//EN
METHOD:PUBLISH
X-PUBLISHED-TTL:P3D
REFRESH-INTERVAL:P3D
CALSCALE:GREGORIAN
BEGIN:VEVENT
DTSTART:20261212T233000Z
DTEND:20261213T040000Z
X-MICROSOFT-CDO-ALLDAYEVENT:FALSE
SUMMARY:92nd Annual Gala: Rockin' Around the Christmas Keys Presented by Wiesner of Huntsville
DESCRIPTION:Celebrate the season in style at the Rockin' Around the Christmas Keys Gala\, our 92nd Annual Gala & Auction presented by Wiesner of Huntsville\, on December 12\, 2026. This elegant evening will feature live entertainment\, exclusive auction experiences\, and the opportunity to connect with leaders from across our community. Set against a festive holiday atmosphere\, the night is designed to honor excellence and highlight the vibrant spirit of Huntsville. Join us for a celebration filled with purpose\, tradition\, and lasting memories.
X-ALT-DESC;FMTTYPE=text/html:Celebrate the season in style at the Rockin&rsquo\; Around the Christmas Keys Gala\, our 92nd Annual Gala &amp\; Auction presented by Wiesner of Huntsville\, on December 12\, 2026. This elegant evening will feature live entertainment\, exclusive auction experiences\, and the opportunity to connect with leaders from across our community. Set against a festive holiday atmosphere\, the night is designed to honor excellence and highlight the vibrant spirit of Huntsville. Join us for a celebration filled with purpose\, tradition\, and lasting memories.
LOCATION:Lowman Student Center Orange Ballroom Sam Houston State University Huntsville\, TX
UID:e.1145.20613
SEQUENCE:3
DTSTAMP:20260421T003920Z
URL:https://business.huntsvillewalkerchamber.com/events/details/92nd-annual-gala-rockin-around-the-christmas-keys-presented-by-wiesner-of-huntsville-20613
END:VEVENT

END:VCALENDAR
