BEGIN:VCALENDAR
VERSION:2.0
PRODID:-//ChamberMaster//Event Calendar 2.0//EN
METHOD:PUBLISH
X-PUBLISHED-TTL:P3D
REFRESH-INTERVAL:P3D
CALSCALE:GREGORIAN
BEGIN:VEVENT
DTSTART:20241215T000000Z
DTEND:20241215T050000Z
X-MICROSOFT-CDO-ALLDAYEVENT:FALSE
SUMMARY:90th Annual Awards Gala & Auction sponsored by Wiesner\, Inc.-Huntsville
DESCRIPTION:Join us for the 90th Annual Chamber Gala! This year's elegant Silver and White theme sets the stage for an unforgettable evening of celebration\, community\, and connection. We invite you to be part of this special event by becoming a sponsor an excellent opportunity to showcase your support and gain visibility within our network. Don't miss out on this milestone celebration!
X-ALT-DESC;FMTTYPE=text/html:<div class="flex max-w-full flex-col flex-grow">\n<div class="min-h-8 text-message flex w-full flex-col items-end gap-2 whitespace-normal break-words [.text-message+&amp\;]:mt-5" data-message-author-role="assistant" data-message-id="b704d086-11da-4f95-b2b4-ba93003c1613" data-message-model-slug="gpt-4o" dir="auto">\n<div class="flex w-full flex-col gap-1 empty:hidden first:pt-[3px]">\n<div class="markdown prose w-full break-words dark:prose-invert light">\n<p>Join us for the <strong>90th Annual Chamber Gala</strong>! This year&rsquo\;s elegant <strong>Silver and White</strong> theme sets the stage for an unforgettable evening of celebration\, community\, and connection. We invite you to be part of this special event by becoming a sponsor&mdash\;an excellent opportunity to showcase your support and gain visibility within our network. Don&rsquo\;t miss out on this milestone celebration!</p>\n</div>\n</div>\n</div>\n</div>\n&nbsp\;\n\n<div class="flex items-center pb-0"><span data-state="closed"><button aria-expanded="false" aria-haspopup="menu" class="cursor-pointer h-[30px] rounded-md px-1 text-token-text-secondary hover:bg-token-main-surface-secondary" data-state="closed" id="radix-:rtu:" type="button"><svg class="icon-md" fill="none" height="24" viewbox="0 0 24 24" width="24" xmlns="http://www.w3.org/2000/svg"><path d="M3.06957 10.8763C3.62331 6.43564 7.40967 3 12 3C14.2824 3 16.4028 3.85067 18.0118 5.25439V4C18.0118 3.44772 18.4595 3 19.0118 3C19.5641 3 20.0118 3.44772 20.0118 4V8C20.0118 8.55228 19.5641 9 19.0118 9H15C14.4477 9 14 8.55228 14 8C14 7.44772 14.4477 7 15 7H16.9571C15.6757 5.76379 13.9101 5 12 5C8.43108 5 5.48466 7.67174 5.0542 11.1237C4.98586 11.6718 4.48619 12.0607 3.93815 11.9923C3.39011 11.924 3.00123 11.4243 3.06957 10.8763ZM20.0618 12.0077C20.6099 12.076 20.9988 12.5757 20.9304 13.1237C20.3767 17.5644 16.5903 21 12 21C9.72322 21 7.60762 20.1535 5.99999 18.7559V20C5.99999 20.5523 5.55228 21 4.99999 21C4.44771 21 3.99999 20.5523 3.99999 20V16C3.99999 15.4477 4.44771 15 4.99999 15H8.99999C9.55228 15 9.99999 15.4477 9.99999 16C9.99999 16.5523 9.55228 17 8.99999 17H7.04285C8.32433 18.2362 10.0899 19 12 19C15.5689 19 18.5153 16.3283 18.9458 12.8763C19.0141 12.3282 19.5138 11.9393 20.0618 12.0077Z" fill="currentColor"></path></svg></button></span></div>\n
LOCATION:Lowman Student Center Orange Ballroom Sam Houston State University Huntsville\, TX
UID:e.1145.17561
SEQUENCE:3
DTSTAMP:20260421T173602Z
URL:https://business.huntsvillewalkerchamber.com/events/details/90th-annual-awards-gala-auction-sponsored-by-wiesner-inc-huntsville-17561
END:VEVENT

END:VCALENDAR
