BEGIN:VCALENDAR
VERSION:2.0
PRODID:-//ChamberMaster//Event Calendar 2.0//EN
METHOD:PUBLISH
X-PUBLISHED-TTL:P3D
REFRESH-INTERVAL:P3D
CALSCALE:GREGORIAN
BEGIN:VEVENT
DTSTART;VALUE=DATE:20090508
DTEND;VALUE=DATE:20090509
TRANSP:TRANSPARENT
X-MICROSOFT-CDO-ALLDAYEVENT:TRUE
SUMMARY:6th Annual Shot in the Dark Golf Tournament
DESCRIPTION:
X-ALT-DESC;FMTTYPE=text/html:
LOCATION:
UID:e.1145.406
SEQUENCE:3
DTSTAMP:20260420T102219Z
URL:https://business.huntsvillewalkerchamber.com/events/details/6th-annual-shot-in-the-dark-golf-tournament-05-08-2009-406
END:VEVENT

END:VCALENDAR
