BEGIN:VCALENDAR
VERSION:2.0
PRODID:-//ChamberMaster//Event Calendar 2.0//EN
METHOD:PUBLISH
X-PUBLISHED-TTL:P3D
REFRESH-INTERVAL:P3D
CALSCALE:GREGORIAN
BEGIN:VEVENT
DTSTART:20260828T160000Z
DTEND:20260828T180000Z
X-MICROSOFT-CDO-ALLDAYEVENT:FALSE
SUMMARY:2026 Be You Women's Luncheon
DESCRIPTION:Join us for a Women's Professional Development Luncheon designed to inspire connection\, growth\, and leadership. This event brings together women from across our business community for meaningful conversation\, networking\, and insight from an engaging speaker. Attendees will enjoy lunch while gaining practical takeaways to support both personal and professional advancement. It's an opportunity to connect\, learn\, and be empowered alongside other driven women.
X-ALT-DESC;FMTTYPE=text/html:Join us for a Women&rsquo\;s Professional Development Luncheon designed to inspire connection\, growth\, and leadership. This event brings together women from across our business community for meaningful conversation\, networking\, and insight from an engaging speaker. Attendees will enjoy lunch while gaining practical takeaways to support both personal and professional advancement. It&rsquo\;s an opportunity to connect\, learn\, and be empowered alongside other driven women.
LOCATION:Walker Education Center 1402 19th Street Huntsville\, TX 77340
UID:e.1145.20612
SEQUENCE:3
DTSTAMP:20260422T175424Z
URL:https://business.huntsvillewalkerchamber.com/events/details/2026-be-you-women-s-luncheon-20612
END:VEVENT

END:VCALENDAR
