BEGIN:VCALENDAR
VERSION:2.0
PRODID:-//ChamberMaster//Event Calendar 2.0//EN
METHOD:PUBLISH
X-PUBLISHED-TTL:P3D
REFRESH-INTERVAL:P3D
CALSCALE:GREGORIAN
BEGIN:VEVENT
DTSTART:20250826T220000Z
DTEND:20250826T233000Z
X-MICROSOFT-CDO-ALLDAYEVENT:FALSE
SUMMARY:2025 New Member Showcase
DESCRIPTION:2025 New Member Showcase:\n\n\n\nJoin us to meet the chamber's newest members\, who have joined from July 1\, 2024\, to July 31\, 2025\, as they showcase their goods and services.\n\nThis event replaces Business After Hours and is free to attend\, we do ask that you register your attendance on our event page!\n\nCome mingle and get to know these new members!\n\n\n\n\n\nNew members please email jmurphy@huntsvillewalkerchamber.com to register your business for the event.
X-ALT-DESC;FMTTYPE=text/html:<p><span style="color:#FF0000\;"><span style="font-family: Söhne\, ui-sans-serif\, system-ui\, -apple-system\, &quot\;Segoe UI&quot\;\, Roboto\, Ubuntu\, Cantarell\, &quot\;Noto Sans&quot\;\, sans-serif\, &quot\;Helvetica Neue&quot\;\, Arial\, &quot\;Apple Color Emoji&quot\;\, &quot\;Segoe UI Emoji&quot\;\, &quot\;Segoe UI Symbol&quot\;\, &quot\;Noto Color Emoji&quot\;\; font-size: 16px\; white-space-collapse: preserve\;"><span style="font-size:28px\;"><strong>2025 New Member Showcase:</strong></span></span></span><br />\n<br />\n<span style="color: rgb(13\, 13\, 13)\; font-family: Söhne\, ui-sans-serif\, system-ui\, -apple-system\, &quot\;Segoe UI&quot\;\, Roboto\, Ubuntu\, Cantarell\, &quot\;Noto Sans&quot\;\, sans-serif\, &quot\;Helvetica Neue&quot\;\, Arial\, &quot\;Apple Color Emoji&quot\;\, &quot\;Segoe UI Emoji&quot\;\, &quot\;Segoe UI Symbol&quot\;\, &quot\;Noto Color Emoji&quot\;\; font-size: 16px\; white-space-collapse: preserve\;">Join us to meet the chamber&#39\;s newest members\, who have joined from July 1\, 2024\, to July 31\, 2025\, as they showcase their goods and services.<br />\nThis event replaces Business After Hours and is free to attend\, we do ask that you register your attendance on our event page!<br />\nCome mingle and get to know these new members!<br />\n<br />\n<br />\nNew members please email jmurphy@huntsvillewalkerchamber.com to register your business for the event. </span></p>\n\n<p><br />\n<br />\n<br />\n&nbsp\;</p>\n
LOCATION:Walker County Storm Shelter 445 TX HWY 75 Huntsville\, TX 77320
UID:e.1145.20358
SEQUENCE:3
DTSTAMP:20260421T001428Z
URL:https://business.huntsvillewalkerchamber.com/events/details/2025-new-member-showcase-20358
END:VEVENT

END:VCALENDAR
