BEGIN:VCALENDAR
VERSION:2.0
PRODID:-//ChamberMaster//Event Calendar 2.0//EN
METHOD:PUBLISH
X-PUBLISHED-TTL:P3D
REFRESH-INTERVAL:P3D
CALSCALE:GREGORIAN
BEGIN:VEVENT
DTSTART:20251106T173000Z
DTEND:20251106T190000Z
X-MICROSOFT-CDO-ALLDAYEVENT:FALSE
SUMMARY:2025 Awards Luncheon
DESCRIPTION:Please join us in celebrating our members and to honor our exceptional volunteers & accomplishments of the year! Ticket will include a meal catered by Texas Roadhouse!
X-ALT-DESC;FMTTYPE=text/html:Please join us in celebrating our members and to honor our exceptional volunteers &amp\; accomplishments of the year! Ticket will include a meal catered by Texas Roadhouse!
LOCATION:Walker County Storm Shelter 455 Highway 75 Huntsville\, TX 77340
UID:e.1145.20501
SEQUENCE:3
DTSTAMP:20260420T185008Z
URL:https://business.huntsvillewalkerchamber.com/events/details/2025-awards-luncheon-20501
END:VEVENT

END:VCALENDAR
