BEGIN:VCALENDAR
VERSION:2.0
PRODID:-//ChamberMaster//Event Calendar 2.0//EN
METHOD:PUBLISH
X-PUBLISHED-TTL:P3D
REFRESH-INTERVAL:P3D
CALSCALE:GREGORIAN
BEGIN:VEVENT
DTSTART:20240912T123000Z
DTEND:20240912T140000Z
X-MICROSOFT-CDO-ALLDAYEVENT:FALSE
SUMMARY:2024 September Small Business Breakfast-Sponsored by Tomorrow's Promise Montessori School
DESCRIPTION:The Huntsville-Walker County Chamber of Commerce Small Business Breakfasts (SBB) are one of our monthly networking events\, providing an opportunity for YOU to get to know fellow chamber members and community leaders.   SBB is all about building business relationships and having fun while you are doing it!  Enjoy a delicious breakfast and share an "infomercial" to build your business! \n\n \n\nThe September breakfast\, sponsored by Tomorrow's Promise Montessori School\, will take place on Thursday\, September 12 and will be held at The Farmhouse Cafe located at 1004 14th Street in the Midway Plaza.\n\n \n\n\n\nCost is only $15 for Chamber Members\, $20 for potential members and is payable at the door.  \n\nMarket your business even further by bringing literature/flyers/etc to display on our member table AND you can donate a door prize announced from the microphone!\n\n \n\nDoors OPEN at 7:30 a.m.\, program begins at 8:00 a.m.\n\nPlease call the Chamber at (936) 295 8113 for more information.\n\n             \n\nRemember make your chamber membership work for you..\n\nGET involved\, GET connected and GET results!
X-ALT-DESC;FMTTYPE=text/html:<div style="text-align: center\;"><br background-color:="" font-size:="" style="color: rgb(51\, 51\, 51)\; font-family: sans-serif\, Arial\, Verdana\, " text-align:="" trebuchet="" />\n<strong background-color:="" font-size:="" style="color: rgb(51\, 51\, 51)\; font-family: sans-serif\, Arial\, Verdana\, " text-align:="" trebuchet="">The Huntsville-Walker County Chamber of Commerce Small Business Breakfasts (SBB) are one of our monthly networking events\, providing an opportunity for YOU to get to know fellow chamber members and community leaders.&nbsp\;&nbsp\; SBB is all about building business relationships and having fun while you are doing it!&nbsp\; Enjoy a delicious breakfast and share an &quot\;infomercial&quot\; to build your business!&nbsp\;</strong><br background-color:="" font-size:="" style="color: rgb(51\, 51\, 51)\; font-family: sans-serif\, Arial\, Verdana\, " text-align:="" trebuchet="" />\n<span background-color:="" font-size:="" style="color: rgb(51\, 51\, 51)\; font-family: sans-serif\, Arial\, Verdana\, " text-align:="" trebuchet="">&nbsp\;</span><br background-color:="" font-size:="" style="color: rgb(51\, 51\, 51)\; font-family: sans-serif\, Arial\, Verdana\, " text-align:="" trebuchet="" />\n<span background-color:="" font-size:="" style="color: rgb(51\, 51\, 51)\; font-family: sans-serif\, Arial\, Verdana\, " text-align:="" trebuchet=""><strong>The September&nbsp\;breakfast\,&nbsp\;sponsored by Tomorrow&#39\;s Promise Montessori School\,&nbsp\;will take place on</strong>&nbsp\;<strong>Thursday\, September 12&nbsp\;and will be held at The Farmhouse Cafe located at 1004 14th Street in the Midway Plaza.</strong></span><br background-color:="" font-size:="" style="color: rgb(51\, 51\, 51)\; font-family: sans-serif\, Arial\, Verdana\, " text-align:="" trebuchet="" />\n<span background-color:="" font-size:="" style="color: rgb(51\, 51\, 51)\; font-family: sans-serif\, Arial\, Verdana\, " text-align:="" trebuchet="">&nbsp\;</span><br background-color:="" font-size:="" style="color: rgb(51\, 51\, 51)\; font-family: sans-serif\, Arial\, Verdana\, " text-align:="" trebuchet="" />\n<br background-color:="" font-size:="" style="color: rgb(51\, 51\, 51)\; font-family: sans-serif\, Arial\, Verdana\, " text-align:="" trebuchet="" />\n<strong background-color:="" font-size:="" style="color: rgb(51\, 51\, 51)\; font-family: sans-serif\, Arial\, Verdana\, " text-align:="" trebuchet=""><span style="color: red\;">Cost is only $15 for Chamber Members\, $20 for potential members and is payable at the door.&nbsp\;&nbsp\;</span></strong><br background-color:="" font-size:="" style="color: rgb(51\, 51\, 51)\; font-family: sans-serif\, Arial\, Verdana\, " text-align:="" trebuchet="" />\n<strong background-color:="" font-size:="" style="color: rgb(51\, 51\, 51)\; font-family: sans-serif\, Arial\, Verdana\, " text-align:="" trebuchet="">Market your business even further by bringing literature/flyers/etc to display on our member table AND you can donate a door prize announced from the microphone!</strong><br background-color:="" font-size:="" style="color: rgb(51\, 51\, 51)\; font-family: sans-serif\, Arial\, Verdana\, " text-align:="" trebuchet="" />\n<span background-color:="" font-size:="" style="color: rgb(51\, 51\, 51)\; font-family: sans-serif\, Arial\, Verdana\, " text-align:="" trebuchet="">&nbsp\;</span><br background-color:="" font-size:="" style="color: rgb(51\, 51\, 51)\; font-family: sans-serif\, Arial\, Verdana\, " text-align:="" trebuchet="" />\n<strong background-color:="" font-size:="" style="color: rgb(51\, 51\, 51)\; font-family: sans-serif\, Arial\, Verdana\, " text-align:="" trebuchet=""><span style="background: yellow\;">Doors OPEN at 7:30 a.m.\, program begins at 8:00 a.m.</span></strong><br background-color:="" font-size:="" style="color: rgb(51\, 51\, 51)\; font-family: sans-serif\, Arial\, Verdana\, " text-align:="" trebuchet="" />\n<strong background-color:="" font-size:="" style="color: rgb(51\, 51\, 51)\; font-family: sans-serif\, Arial\, Verdana\, " text-align:="" trebuchet="">Please call the Chamber at (936) 295&#8209\;8113 for more information.</strong><br background-color:="" font-size:="" style="color: rgb(51\, 51\, 51)\; font-family: sans-serif\, Arial\, Verdana\, " text-align:="" trebuchet="" />\n<span background-color:="" font-size:="" style="color: rgb(51\, 51\, 51)\; font-family: sans-serif\, Arial\, Verdana\, " text-align:="" trebuchet="">&nbsp\; &nbsp\; &nbsp\; &nbsp\; &nbsp\; &nbsp\; &nbsp\;</span><br background-color:="" font-size:="" style="color: rgb(51\, 51\, 51)\; font-family: sans-serif\, Arial\, Verdana\, " text-align:="" trebuchet="" />\n<strong background-color:="" font-size:="" style="color: rgb(51\, 51\, 51)\; font-family: sans-serif\, Arial\, Verdana\, " text-align:="" trebuchet=""><em><span style="background-image: initial\; background-position: initial\; background-size: initial\; background-repeat: initial\; background-attachment: initial\; background-origin: initial\; background-clip: initial\;"><span style="color: red\;">Remember make your chamber membership work for you..</span></span></em></strong><br background-color:="" font-size:="" style="color: rgb(51\, 51\, 51)\; font-family: sans-serif\, Arial\, Verdana\, " text-align:="" trebuchet="" />\n<strong background-color:="" font-size:="" style="color: rgb(51\, 51\, 51)\; font-family: sans-serif\, Arial\, Verdana\, " text-align:="" trebuchet=""><em><span style="background-image: initial\; background-position: initial\; background-size: initial\; background-repeat: initial\; background-attachment: initial\; background-origin: initial\; background-clip: initial\;"><span style="color: red\;">GET involved\, GET connected and GET results!</span></span></em></strong><br background-color:="" font-size:="" style="color: rgb(51\, 51\, 51)\; font-family: sans-serif\, Arial\, Verdana\, " text-align:="" trebuchet="" />\n<span background-color:="" font-size:="" style="color: rgb(51\, 51\, 51)\; font-family: sans-serif\, Arial\, Verdana\, " text-align:="" trebuchet="">&nbsp\;</span><span style="font-size:18px\;"><strong><span style="background:white\;"><span style="color:#333333\;">&nbsp\;</span></span></strong></span></div>\n
LOCATION:The Farmhouse Cafe 1004 14th Street
UID:e.1145.17523
SEQUENCE:3
DTSTAMP:20260421T222854Z
URL:https://business.huntsvillewalkerchamber.com/events/details/2024-september-small-business-breakfast-sponsored-by-tomorrow-s-promise-montessori-school-17523
END:VEVENT

END:VCALENDAR
