BEGIN:VCALENDAR
VERSION:2.0
PRODID:-//ChamberMaster//Event Calendar 2.0//EN
METHOD:PUBLISH
X-PUBLISHED-TTL:P3D
REFRESH-INTERVAL:P3D
CALSCALE:GREGORIAN
BEGIN:VEVENT
DTSTART:20241119T231500Z
DTEND:20241120T001500Z
X-MICROSOFT-CDO-ALLDAYEVENT:FALSE
SUMMARY:2024 November Business After Hours-Madilene's Piano Tuning & Repair
DESCRIPTION:November Business After Hours - Madilene's Piano Tuning & Repair\n\nMake plans to attend Huntsville-Walker County Chamber of Commerce Business After Hours\, on TUESDAY\, November 19th! The event will be held in the Chamber of Commerce's Conference room at 1327 11th Street and begins at 5:15 pm!\n\nBusiness After Hours is just one of the monthly networking events provided by the Chamber.  The event gives Chamber members an opportunity to meet informally at local business establishments\, to visit and share ideas and opinions\, socialize\, make business contacts\, meet new people\, and learn more about their host's business.\n\n \nAll Chamber members are invited and encouraged to bring their business cards to network with other members. There will be beverages and hors d'oeuvres to enjoy\, door prizes and the $50 Cash Pot to give away to a lucky member present!\n\nMark your calendar for Tuesday\, November 19th and plan to meet new people\, share ideas\, show your support of other Chamber members and possibly take home some great door prizes too!
X-ALT-DESC;FMTTYPE=text/html:<p style="text-align: center\;"><span style="font-size:20px\;"><strong><span style="font-family:times new roman\;"><span style="color: red\;">November Business After Hours - Madilene&#39\;s Piano Tuning &amp\; Repair</span></span></strong></span></p>\n\n<p><span style="font-family:times new roman\;"><span style="font-size:14px\;">Make plans to attend Huntsville-Walker County Chamber of Commerce&nbsp\;Business After Hours\,&nbsp\;<strong>on TUESDAY\, November 19th! The event will be held in the Chamber of Commerce&#39\;s Conference room at 1327 11th Street and begins at&nbsp\;</strong><strong>5:15 pm!</strong></span></span></p>\n\n<p><span style="font-family:times new roman\;"><span style="font-size:14px\;"><strong><span style="color: black\;">Business After Hours&nbsp\;</span></strong><span style="color: black\;">is just one of the monthly networking events provided by the Chamber.&nbsp\; The event gives</span> Chamber members an opportunity to meet informally at local business establishments\, to visit and share ideas and opinions\, socialize\, make business contacts\, meet new people\, and learn more about their host&#39\;s business.</span></span><br />\n&nbsp\;</p>\n<span style="font-family:times new roman\;"><span style="font-size:14px\;"><span style="color: black\;">All Chamber members are invited and encouraged to bring their business cards to network with other members. There will be beverages and hors d&#39\;oeuvres to enjoy\, door prizes and</span><span style="background-color: rgb(255\, 255\, 255)\;">&nbsp\;the <strong>$50</strong>&nbsp\;</span><strong background-color:="" font-size:="" new="" style="font-family: " times="">Cash Pot&nbsp\;</strong><span style="background-color: rgb(255\, 255\, 255)\;">to give away to a lucky member present!</span></span></span>\n\n<p><span style="font-family:times new roman\;"><span style="font-size:14px\;"><span style="color: black\;"><strong>Mark your calendar for&nbsp\;Tuesday\, November 19th&nbsp\;</strong>and plan to meet new people\, share ideas\, show your support&nbsp\;of other Chamber members and possibly take home some great door prizes too!&nbsp\;</span></span></span></p>\n
LOCATION:Chamber of Commerce Conference Room 1327 11th Street
UID:e.1145.17498
SEQUENCE:3
DTSTAMP:20260422T000635Z
URL:https://business.huntsvillewalkerchamber.com/events/details/2024-november-business-after-hours-madilene-s-piano-tuning-repair-17498
END:VEVENT

END:VCALENDAR
