BEGIN:VCALENDAR
VERSION:2.0
PRODID:-//ChamberMaster//Event Calendar 2.0//EN
METHOD:PUBLISH
X-PUBLISHED-TTL:P3D
REFRESH-INTERVAL:P3D
CALSCALE:GREGORIAN
BEGIN:VEVENT
DTSTART:20240326T221500Z
DTEND:20240326T231500Z
X-MICROSOFT-CDO-ALLDAYEVENT:FALSE
SUMMARY:2024 March Business After Hours - sponsored by Sam Houston Memorial Funeral Home
DESCRIPTION:Sam Houston Memorial Funeral Home\n\nis the Host for March's Business After Hours\n\nMake plans to attend Huntsville-Walker County Chamber of Commerce Business After Hours\, on TUESDAY\, March 26th sponsored by Sam Houston Memorial Funeral Home.  The event will begin at 5:15 pm and will be held at Sam Houston Memorial Funeral Home located at 1700 Normal Park !\n\nBusiness After Hours is just one of the monthly networking events provided by the Chamber.  The event gives Chamber members an opportunity to meet informally at local business establishments\, to visit and share ideas and opinions\, socialize\, make business contacts\, meet new people\, and learn more about their host's business.\n\n \nAll Chamber members are invited and encouraged to bring their business cards to network with other members. There will be beverages and hors d'oeuvres to enjoy\, door prizes and the $50 Cash Pot to give away to a lucky member present!\n\nMark your calendar for Tuesday\, March 26th and plan to meet new people\, share ideas\, show your support of other Chamber members and possibly take home some great door prizes too!
X-ALT-DESC;FMTTYPE=text/html:<p style="text-align: center\;"><span style="font-size: 14px\;"><span style="color: red\;"><span style="font-family: arial black\, sans-serif\;">Sam Houston Memorial Funeral Home</span></span></span><br />\n<span style="font-size: 14px\;"><span style="color: red\;"><span style="font-family: arial black\, sans-serif\;">is&nbsp\;</span></span><span style="color: red\;"><span style="font-family: arial black\, sans-serif\;">the Host for&nbsp\;</span></span><span style="color: red\;"><span style="font-family: arial black\, sans-serif\;">March&#39\;s</span></span><span style="color: red\;"><span style="font-family: arial black\, sans-serif\;">&nbsp\;Business After Hours</span></span></span></p>\n\n<p><span style="font-size:14px\;"><span style="font-family:times new roman\;">Make plans to attend Huntsville-Walker County Chamber of Commerce&nbsp\;Business After Hours\,&nbsp\;<strong>on TUESDAY\, March 26th&nbsp\;sponsored by Sam Houston Memorial Funeral Home.&nbsp\;&nbsp\;</strong>The event&nbsp\;will begin at <strong>5:15 pm and will be held at Sam Houston Memorial Funeral Home&nbsp\;located at </strong></span></span><strong>1700 Normal Park&#8203\;<span style="font-size:14px\;"><span style="font-family:times new roman\;">!</span></span></strong></p>\n\n<p><span style="font-size:14px\;"><span style="font-family:times new roman\;"><strong><span style="color: black\;">Business After Hours&nbsp\;</span></strong><span style="color: black\;">is just one of the monthly networking events provided by the Chamber.&nbsp\; The event gives</span> Chamber members an opportunity to meet informally at local business establishments\, to visit and share ideas and opinions\, socialize\, make business contacts\, meet new people\, and learn more about their host&#39\;s business.</span></span><br />\n&nbsp\;</p>\n<span style="font-size:14px\;"><span style="font-family:times new roman\;"><span style="color: black\;">All Chamber members are invited and encouraged to bring their business cards to network with other members. There will be beverages and hors d&#39\;oeuvres to enjoy\, door prizes and</span><span style="background-color: rgb(255\, 255\, 255)\;">&nbsp\;the <strong>$50</strong>&nbsp\;</span><strong background-color:="" font-size:="" new="" style="font-family: " times="">Cash Pot&nbsp\;</strong><span style="background-color: rgb(255\, 255\, 255)\;">to give away to a lucky member present!</span></span></span>\n\n<p><span style="font-size:14px\;"><span style="font-family:times new roman\;"><span style="color: black\;"><strong>Mark your calendar for&nbsp\;Tuesday\, March 26th&nbsp\;</strong>and plan to meet new people\, share ideas\, show your support&nbsp\;of other Chamber members and possibly take home some great door prizes too!&nbsp\;</span></span></span></p>\n
LOCATION:1700 Normal Park Huntsville
UID:e.1145.17515
SEQUENCE:3
DTSTAMP:20260424T090309Z
URL:https://business.huntsvillewalkerchamber.com/events/details/2024-march-business-after-hours-sponsored-by-sam-houston-memorial-funeral-home-17515
END:VEVENT

END:VCALENDAR
