BEGIN:VCALENDAR
VERSION:2.0
PRODID:-//ChamberMaster//Event Calendar 2.0//EN
METHOD:PUBLISH
X-PUBLISHED-TTL:P3D
REFRESH-INTERVAL:P3D
CALSCALE:GREGORIAN
BEGIN:VEVENT
DTSTART:20240827T221500Z
DTEND:20240827T231500Z
X-MICROSOFT-CDO-ALLDAYEVENT:FALSE
SUMMARY:2024 August Business After Hours - Sponsored by Sundale Senior Living
DESCRIPTION:August Business After Hours sponsored by\n\nSundale Senior Living\n\n \n\nMake plans to attend Huntsville-Walker County Chamber of Commerce Business After Hours\, on TUESDAY\, August 27th sponsored by Sundale Senior Living.  The event will begin at 5:15 pm at 679 I-45 S!\n\nBusiness After Hours is just one of the monthly networking events provided by the Chamber.  The event gives Chamber members an opportunity to meet informally at local business establishments\, to visit and share ideas and opinions\, socialize\, make business contacts\, meet new people\, and learn more about their host's business.\n\n \nAll Chamber members are invited and encouraged to bring their business cards to network with other members. There will be beverages and hors d'oeuvres to enjoy\, door prizes and the $50 Cash Pot to give away to a lucky member present!\n\nMark your calendar for Tuesday\, August 27th and plan to meet new people\, share ideas\, show your support of other Chamber members and possibly take home some great door prizes too!
X-ALT-DESC;FMTTYPE=text/html:<p style="text-align: center\;"><span style="font-size: 14px\;"><span style="color: red\;"><span style="font-family: arial black\, sans-serif\;">August Business After Hours sponsored by<br />\nSundale Senior Living</span></span></span></p>\n\n<p style="text-align: center\;">&nbsp\;</p>\n\n<p><span style="font-size:14px\;"><span style="font-family:times new roman\;">Make plans to attend Huntsville-Walker County Chamber of Commerce&nbsp\;Business After Hours\,&nbsp\;<strong>on TUESDAY\, August 27th&nbsp\;sponsored by Sundale Senior Living.&nbsp\;&nbsp\;</strong>The event&nbsp\;will begin at <strong>5:15 pm at 679 I-45 S!</strong></span></span></p>\n\n<p><span style="font-size:14px\;"><span style="font-family:times new roman\;"><strong><span style="color: black\;">Business After Hours&nbsp\;</span></strong><span style="color: black\;">is just one of the monthly networking events provided by the Chamber.&nbsp\; The event gives</span> Chamber members an opportunity to meet informally at local business establishments\, to visit and share ideas and opinions\, socialize\, make business contacts\, meet new people\, and learn more about their host&#39\;s business.</span></span><br />\n&nbsp\;</p>\n<span style="font-size:14px\;"><span style="font-family:times new roman\;"><span style="color: black\;">All Chamber members are invited and encouraged to bring their business cards to network with other members. There will be beverages and hors d&#39\;oeuvres to enjoy\, door prizes and</span><span style="background-color: rgb(255\, 255\, 255)\;">&nbsp\;the <strong>$50</strong>&nbsp\;</span><strong background-color:="" font-size:="" new="" style="font-family: " times="">Cash Pot&nbsp\;</strong><span style="background-color: rgb(255\, 255\, 255)\;">to give away to a lucky member present!</span></span></span>\n\n<p><span style="font-size:14px\;"><span style="font-family:times new roman\;"><span style="color: black\;"><strong>Mark your calendar for&nbsp\;Tuesday\, August 27th&nbsp\;</strong>and plan to meet new people\, share ideas\, show your support&nbsp\;of other Chamber members and possibly take home some great door prizes too!&nbsp\;</span></span></span></p>\n
LOCATION:679 I - 45 S
UID:e.1145.17499
SEQUENCE:3
DTSTAMP:20260422T015932Z
URL:https://business.huntsvillewalkerchamber.com/events/details/2024-august-business-after-hours-sponsored-by-sundale-senior-living-17499
END:VEVENT

END:VCALENDAR
