BEGIN:VCALENDAR
VERSION:2.0
PRODID:-//ChamberMaster//Event Calendar 2.0//EN
METHOD:PUBLISH
X-PUBLISHED-TTL:P3D
REFRESH-INTERVAL:P3D
CALSCALE:GREGORIAN
BEGIN:VEVENT
DTSTART:20230601T210000Z
DTEND:20230601T220000Z
X-MICROSOFT-CDO-ALLDAYEVENT:FALSE
SUMMARY:2023 Ribbon Cutting Ceremony - H-Bistrot
DESCRIPTION:Join Chamber ambassadors\, directors and staff as we celebrate one of our members\, H-Bistrot\, with a ribbon cutting!   The ceremony will be held on Thursday\, June 1st at 4:00 p.m.   Every participant will be offered a glass of wine to enjoy!  There will be live music from 5-7 and Tipsy Tio's Food truck onsite.\n\n\n\nCome show your support and join us in the celebration!
X-ALT-DESC;FMTTYPE=text/html:<font size="3"><font face="Times New Roman">Join&nbsp\;Chamber ambassadors\, directors and staff as we&nbsp\;celebrate one of our members\, H-Bistrot\, with a ribbon cutting!&nbsp\; &nbsp\;The ceremony will be held on Thursday\, June 1st at 4:00 p.m.&nbsp\; &nbsp\;Every participant will be offered a glass of wine to enjoy!&nbsp\; There will be live music from 5-7 and Tipsy Tio&#39\;s Food truck onsite.<br />\n<br />\nCome show your support and join us in the celebration!</font></font><br />\n<br />\n&nbsp\;
LOCATION:1320 Windsor Street Huntsville TX
UID:e.1145.17342
SEQUENCE:3
DTSTAMP:20260424T225032Z
URL:https://business.huntsvillewalkerchamber.com/events/details/2023-ribbon-cutting-ceremony-h-bistrot-17342
END:VEVENT

END:VCALENDAR
